BEGIN:VCALENDAR
VERSION:2.0
PRODID:calendify.com
BEGIN:VEVENT
UID:calendify-session-dnv45EY14R0
DTSTART:20220608T134500Z
SEQUENCE:0
TRANSP:OPAQUE
DTEND:20220608T141500Z
URL:https://calendify.com/session/dnv45EY14R0
LOCATION:Get a Job-Area
SUMMARY:Zukunftsmacher*innen bei der Finanz Informatik – Drei Learnings f
 ür Innovations- und Führungskultur
CLASS:PUBLIC
DESCRIPTION:https://calendify.com/session/dnv45EY14R0
DTSTAMP:20260423T160525Z
CREATED:20220530T102805Z
LAST-MODIFIED:20220613T235204Z
END:VEVENT
END:VCALENDAR