BEGIN:VCALENDAR
VERSION:2.0
PRODID:calendify.com
BEGIN:VEVENT
UID:calendify-session-dnv45Eak4R0
DTSTART:20220723T080000Z
SEQUENCE:0
TRANSP:OPAQUE
DTEND:20220723T085000Z
URL:https://calendify.com/session/dnv45Eak4R0
LOCATION:Clairvoyance 🔮
SUMMARY:Running a Domain Registrar for Fun and (some) Profit
CLASS:PUBLIC
DESCRIPTION:https://calendify.com/session/dnv45Eak4R0
DTSTAMP:20260422T201715Z
CREATED:20220620T212434Z
LAST-MODIFIED:20220726T182703Z
END:VEVENT
END:VCALENDAR