BEGIN:VCALENDAR
VERSION:2.0
PRODID:calendify.com
BEGIN:VEVENT
UID:calendify-session-dnv45EkD4R0
DTSTART:20220610T101500Z
SEQUENCE:0
TRANSP:OPAQUE
DTEND:20220610T104500Z
URL:https://calendify.com/session/dnv45EkD4R0
LOCATION:Stage 1
SUMMARY:Angry Weather – understanding the impacts of climate change today
CLASS:PUBLIC
DESCRIPTION:https://calendify.com/session/dnv45EkD4R0
DTSTAMP:20260419T211507Z
CREATED:20220526T162946Z
LAST-MODIFIED:20220613T235204Z
END:VEVENT
END:VCALENDAR