BEGIN:VCALENDAR
VERSION:2.0
PRODID:calendify.com
BEGIN:VEVENT
UID:calendify-session-dnv45Eqw4R0
DTSTART:20220610T094500Z
SEQUENCE:0
TRANSP:OPAQUE
DTEND:20220610T101500Z
URL:https://calendify.com/session/dnv45Eqw4R0
LOCATION:Lightning Box 1
SUMMARY:The European Artificial Intelligence Act (AIA): How it started\, ho
 w it's going\, and what's at stake.
CLASS:PUBLIC
DESCRIPTION:https://calendify.com/session/dnv45Eqw4R0
DTSTAMP:20260423T150912Z
CREATED:20220526T162945Z
LAST-MODIFIED:20220613T235204Z
END:VEVENT
END:VCALENDAR