BEGIN:VCALENDAR
VERSION:2.0
PRODID:calendify.com
BEGIN:VEVENT
UID:calendify-session-dnv45Evw4R0
DTSTART:20220206T140000Z
SEQUENCE:0
TRANSP:OPAQUE
DTEND:20220206T142000Z
URL:https://calendify.com/session/dnv45Evw4R0
LOCATION:D.dependency
SUMMARY:FASTEN: Fine-Grained Analysis of Software Ecosystems as Networks
CLASS:PUBLIC
DESCRIPTION:https://calendify.com/session/dnv45Evw4R0
DTSTAMP:20260422T110841Z
CREATED:20220120T214609Z
LAST-MODIFIED:20220206T225004Z
END:VEVENT
END:VCALENDAR