BEGIN:VCALENDAR
VERSION:2.0
PRODID:calendify.com
BEGIN:VEVENT
UID:calendify-session-dnv45L0ogR0
DTSTART:20210314T155500Z
SEQUENCE:0
TRANSP:OPAQUE
DTEND:20210314T165500Z
URL:https://calendify.com/session/dnv45L0ogR0
LOCATION:Zoom Room 3A
SUMMARY:Beyond compliance: How employees can drive business leadership in c
 limate action
CLASS:PUBLIC
DESCRIPTION:https://calendify.com/session/dnv45L0ogR0
DTSTAMP:20260420T202930Z
CREATED:20210426T094928Z
LAST-MODIFIED:20210426T094928Z
END:VEVENT
END:VCALENDAR