BEGIN:VCALENDAR
VERSION:2.0
PRODID:calendify.com
BEGIN:VEVENT
UID:calendify-session-dnv45L11gR0
DTSTART:20210310T181500Z
SEQUENCE:0
TRANSP:OPAQUE
DTEND:20210310T191500Z
URL:https://calendify.com/session/dnv45L11gR0
LOCATION:Zoom Room 3B
SUMMARY:Governing the Open Source Commons: guiding principles for sustainab
 le and equitable open source communities
CLASS:PUBLIC
DESCRIPTION:https://calendify.com/session/dnv45L11gR0
DTSTAMP:20260422T123336Z
CREATED:20210426T094927Z
LAST-MODIFIED:20210426T094927Z
END:VEVENT
END:VCALENDAR