BEGIN:VCALENDAR
VERSION:2.0
PRODID:calendify.com
BEGIN:VEVENT
UID:calendify-session-dnv45L2wgR0
DTSTART:20211031T140000Z
SEQUENCE:0
TRANSP:OPAQUE
DTEND:20211031T144500Z
URL:https://calendify.com/session/dnv45L2wgR0
LOCATION:Stream
SUMMARY:Schützt endlich eure Quellen!
CLASS:PUBLIC
DESCRIPTION:https://calendify.com/session/dnv45L2wgR0
DTSTAMP:20260424T013707Z
CREATED:20211030T120003Z
LAST-MODIFIED:20211101T215003Z
END:VEVENT
END:VCALENDAR