BEGIN:VCALENDAR
VERSION:2.0
PRODID:calendify.com
BEGIN:VEVENT
UID:calendify-session-dnv45LGbgR0
DTSTART:20211228T190000Z
SEQUENCE:0
TRANSP:OPAQUE
DTEND:20211228T200000Z
URL:https://calendify.com/session/dnv45LGbgR0
LOCATION:ChaosZone TV
SUMMARY:When Wikileaks bumped into the CIA: Operation Kudo exposed
CLASS:PUBLIC
DESCRIPTION:https://calendify.com/session/dnv45LGbgR0
DTSTAMP:20260420T111306Z
CREATED:20211220T014016Z
LAST-MODIFIED:20211230T225002Z
END:VEVENT
END:VCALENDAR