BEGIN:VCALENDAR
VERSION:2.0
PRODID:calendify.com
BEGIN:VEVENT
UID:calendify-session-dnv45LeogR0
DTSTART:20210312T181500Z
SEQUENCE:0
TRANSP:OPAQUE
DTEND:20210312T191500Z
URL:https://calendify.com/session/dnv45LeogR0
LOCATION:Youth 1
SUMMARY:Strangest Sights on Google Earth
CLASS:PUBLIC
DESCRIPTION:https://calendify.com/session/dnv45LeogR0
DTSTAMP:20260420T215454Z
CREATED:20210426T094928Z
LAST-MODIFIED:20210426T094928Z
END:VEVENT
END:VCALENDAR