BEGIN:VCALENDAR
VERSION:2.0
PRODID:calendify.com
BEGIN:VEVENT
UID:calendify-session-dnv45Lr1gR0
DTSTART:20211229T203000Z
SEQUENCE:0
TRANSP:OPAQUE
DTEND:20211229T230000Z
URL:https://calendify.com/session/dnv45Lr1gR0
LOCATION:franconian.net
SUMMARY:Jolly Jitsi & Jackbox
CLASS:PUBLIC
DESCRIPTION:https://calendify.com/session/dnv45Lr1gR0
DTSTAMP:20260423T122256Z
CREATED:20211227T165002Z
LAST-MODIFIED:20211230T225002Z
END:VEVENT
END:VCALENDAR