BEGIN:VCALENDAR
VERSION:2.0
PRODID:calendify.com
BEGIN:VEVENT
UID:calendify-session-dnv45Ly1gR0
DTSTART:20210309T144500Z
SEQUENCE:0
TRANSP:OPAQUE
DTEND:20210309T154500Z
URL:https://calendify.com/session/dnv45Ly1gR0
LOCATION:Zoom Room 2B
SUMMARY:From ‘Human Centered Design’ to ‘Humanity Centered Design’:
  Towards an AI design methodology for the collective/public good
CLASS:PUBLIC
DESCRIPTION:https://calendify.com/session/dnv45Ly1gR0
DTSTAMP:20260420T215642Z
CREATED:20210426T094927Z
LAST-MODIFIED:20210426T094927Z
END:VEVENT
END:VCALENDAR