BEGIN:VCALENDAR
VERSION:2.0
PRODID:calendify.com
BEGIN:VEVENT
UID:calendify-session-dnv45QWV4R0
DTSTART:20260201T082500Z
SEQUENCE:0
TRANSP:OPAQUE
DTEND:20260201T085000Z
URL:https://calendify.com/session/dnv45QWV4R0
LOCATION:UB4.132
SUMMARY:Bugbane: Simplifying consensual Android forensics
CLASS:PUBLIC
DESCRIPTION:https://calendify.com/session/dnv45QWV4R0
DTSTAMP:20260424T072607Z
CREATED:20260131T063321Z
LAST-MODIFIED:20260201T163232Z
END:VEVENT
END:VCALENDAR