BEGIN:VCALENDAR
VERSION:2.0
PRODID:calendify.com
BEGIN:VEVENT
UID:calendify-session-dnv45dWLgR0
DTSTART:20230610T103500Z
SEQUENCE:0
TRANSP:OPAQUE
DTEND:20230610T112000Z
URL:https://calendify.com/session/dnv45dWLgR0
LOCATION:Medientheater
SUMMARY:Perimeter security is dead\, get over it.
CLASS:PUBLIC
DESCRIPTION:https://calendify.com/session/dnv45dWLgR0
DTSTAMP:20260422T174329Z
CREATED:20230527T091821Z
LAST-MODIFIED:20230611T215002Z
END:VEVENT
END:VCALENDAR