BEGIN:VCALENDAR
VERSION:2.0
PRODID:calendify.com
BEGIN:VEVENT
UID:calendify-session-dnv45dvVgR0
DTSTART:20220916T203000Z
SEQUENCE:0
TRANSP:OPAQUE
DTEND:20220917T000000Z
URL:https://calendify.com/session/dnv45dvVgR0
LOCATION:Sondermaschinenbau
SUMMARY:Auditiv
CLASS:PUBLIC
DESCRIPTION:https://calendify.com/session/dnv45dvVgR0
DTSTAMP:20260424T003042Z
CREATED:20220913T220002Z
LAST-MODIFIED:20220918T215002Z
END:VEVENT
END:VCALENDAR