BEGIN:VCALENDAR
VERSION:2.0
PRODID:calendify.com
BEGIN:VEVENT
UID:calendify-session-dnv45eRo4R0
DTSTART:20200905T163000Z
SEQUENCE:0
TRANSP:OPAQUE
DTEND:20200905T174500Z
URL:https://calendify.com/session/dnv45eRo4R0
LOCATION:Schneider-Hoover
SUMMARY:Erlebnisse eines KRITIS Prüfers
CLASS:PUBLIC
DESCRIPTION:https://calendify.com/session/dnv45eRo4R0
DTSTAMP:20260424T054427Z
CREATED:20200904T143714Z
LAST-MODIFIED:20200904T143714Z
END:VEVENT
END:VCALENDAR