BEGIN:VCALENDAR
VERSION:2.0
PRODID:calendify.com
BEGIN:VEVENT
UID:calendify-session-dnv45jBbOR0
DTSTART:20241228T140000Z
SEQUENCE:0
TRANSP:OPAQUE
DTEND:20241228T160000Z
URL:https://calendify.com/session/dnv45jBbOR0
LOCATION:KliMathematik Augsburg\, look in description
SUMMARY:Radikale Therapie: Infoveranstaltung und ausprobieren
CLASS:PUBLIC
DESCRIPTION:https://calendify.com/session/dnv45jBbOR0
DTSTAMP:20260419T133656Z
CREATED:20241227T141509Z
LAST-MODIFIED:20250101T225003Z
END:VEVENT
END:VCALENDAR