BEGIN:VCALENDAR
VERSION:2.0
PRODID:calendify.com
BEGIN:VEVENT
UID:calendify-session-dnv45n21OR0
DTSTART:20231227T125000Z
SEQUENCE:0
TRANSP:OPAQUE
DTEND:20231227T134000Z
URL:https://calendify.com/session/dnv45n21OR0
LOCATION:Saal D
SUMMARY:Foundation workshop: Hands-on\, how does the Internet work?
CLASS:PUBLIC
DESCRIPTION:https://calendify.com/session/dnv45n21OR0
DTSTAMP:20260423T003412Z
CREATED:20231221T182736Z
LAST-MODIFIED:20240401T142932Z
END:VEVENT
END:VCALENDAR