BEGIN:VCALENDAR
VERSION:2.0
PRODID:calendify.com
BEGIN:VEVENT
UID:calendify-session-dnv45nJlOR0
DTSTART:20240530T201500Z
SEQUENCE:0
TRANSP:OPAQUE
DTEND:20240530T211500Z
URL:https://calendify.com/session/dnv45nJlOR0
LOCATION:ZKM Vortragssaal
SUMMARY:Quantum random oracle model\, a user-friendly introduction
CLASS:PUBLIC
DESCRIPTION:https://calendify.com/session/dnv45nJlOR0
DTSTAMP:20260422T154218Z
CREATED:20240531T122738Z
LAST-MODIFIED:20240602T132303Z
END:VEVENT
END:VCALENDAR