BEGIN:VCALENDAR
VERSION:2.0
PRODID:calendify.com
BEGIN:VEVENT
UID:calendify-session-dnv45nP1OR0
DTSTART:20231228T160000Z
SEQUENCE:0
TRANSP:OPAQUE
DTEND:20231228T180000Z
URL:https://calendify.com/session/dnv45nP1OR0
LOCATION:Stage H
SUMMARY:Socratic Seminar: Bitcoin 2023 Year-in-Review
CLASS:PUBLIC
DESCRIPTION:https://calendify.com/session/dnv45nP1OR0
DTSTAMP:20260423T003432Z
CREATED:20231223T100103Z
LAST-MODIFIED:20240401T142932Z
END:VEVENT
END:VCALENDAR