BEGIN:VCALENDAR
VERSION:2.0
PRODID:calendify.com
BEGIN:VEVENT
UID:calendify-session-dnv45nYlOR0
DTSTART:20240330T190000Z
SEQUENCE:0
TRANSP:OPAQUE
DTEND:20240330T200000Z
URL:https://calendify.com/session/dnv45nYlOR0
LOCATION:Goldener Turing - K018
SUMMARY:Meshtastic Verschlüsselter Chat auf sub GHz basis übers handy.
CLASS:PUBLIC
DESCRIPTION:https://calendify.com/session/dnv45nYlOR0
DTSTAMP:20260420T193759Z
CREATED:20240329T152817Z
LAST-MODIFIED:20240401T142841Z
END:VEVENT
END:VCALENDAR