BEGIN:VCALENDAR
VERSION:2.0
PRODID:calendify.com
BEGIN:VEVENT
UID:calendify-session-dnv45ndlOR0
DTSTART:20230818T110000Z
SEQUENCE:0
TRANSP:OPAQUE
DTEND:20230818T120000Z
URL:https://calendify.com/session/dnv45ndlOR0
LOCATION:UFO
SUMMARY:3MULGAT0
CLASS:PUBLIC
DESCRIPTION:https://calendify.com/session/dnv45ndlOR0
DTSTAMP:20260420T170406Z
CREATED:20230815T214937Z
LAST-MODIFIED:20240401T150803Z
END:VEVENT
END:VCALENDAR