BEGIN:VCALENDAR
VERSION:2.0
PRODID:calendify.com
BEGIN:VEVENT
UID:calendify-session-dnv45nk9OR0
DTSTART:20231229T160000Z
SEQUENCE:0
TRANSP:OPAQUE
DTEND:20231229T164500Z
URL:https://calendify.com/session/dnv45nk9OR0
LOCATION:Sendezentrum Podcast Table (X12)
SUMMARY:Das Congress-Mindset
CLASS:PUBLIC
DESCRIPTION:https://calendify.com/session/dnv45nk9OR0
DTSTAMP:20260422T001741Z
CREATED:20231227T143003Z
LAST-MODIFIED:20240401T142933Z
END:VEVENT
END:VCALENDAR