BEGIN:VCALENDAR
VERSION:2.0
PRODID:calendify.com
BEGIN:VEVENT
UID:calendify-session-dnv45nobOR0
DTSTART:20231228T134500Z
SEQUENCE:0
TRANSP:OPAQUE
DTEND:20231228T144500Z
URL:https://calendify.com/session/dnv45nobOR0
LOCATION:Saal 1
SUMMARY:Der sehende Stein der Polizeibehörden 
CLASS:PUBLIC
DESCRIPTION:https://calendify.com/session/dnv45nobOR0
DTSTAMP:20260423T003236Z
CREATED:20231215T204819Z
LAST-MODIFIED:20240401T142932Z
END:VEVENT
END:VCALENDAR