BEGIN:VCALENDAR
VERSION:2.0
PRODID:calendify.com
BEGIN:VEVENT
UID:calendify-session-dnv45nx9OR0
DTSTART:20231229T143000Z
SEQUENCE:0
TRANSP:OPAQUE
DTEND:20231229T160000Z
URL:https://calendify.com/session/dnv45nx9OR0
LOCATION:ChaosZone
SUMMARY:U Act! - “The Marshall Plan” for Ukraine
CLASS:PUBLIC
DESCRIPTION:https://calendify.com/session/dnv45nx9OR0
DTSTAMP:20260423T003529Z
CREATED:20231228T150002Z
LAST-MODIFIED:20240401T142932Z
END:VEVENT
END:VCALENDAR