BEGIN:VCALENDAR
VERSION:2.0
PRODID:calendify.com
BEGIN:VEVENT
UID:calendify-session-dnv45nzVOR0
DTSTART:20240331T163000Z
SEQUENCE:0
TRANSP:OPAQUE
DTEND:20240331T173000Z
URL:https://calendify.com/session/dnv45nzVOR0
LOCATION:Walhacka - D002
SUMMARY:Anonymous Sysadmins & DevOops meeting
CLASS:PUBLIC
DESCRIPTION:https://calendify.com/session/dnv45nzVOR0
DTSTAMP:20260421T181242Z
CREATED:20240328T125152Z
LAST-MODIFIED:20240401T142841Z
END:VEVENT
END:VCALENDAR