BEGIN:VCALENDAR
VERSION:2.0
PRODID:calendify.com
BEGIN:VEVENT
UID:calendify-session-dz04j8jzM3N
DTSTART:20200201T123000Z
SEQUENCE:0
TRANSP:OPAQUE
DTEND:20200201T125500Z
URL:https://calendify.com/session/dz04j8jzM3N
LOCATION:UA2.220 (Guillissen)
SUMMARY:COLLAB: The optics of the policy
CLASS:PUBLIC
DESCRIPTION:https://calendify.com/session/dz04j8jzM3N
DTSTAMP:20260422T194700Z
CREATED:20200513T234730Z
LAST-MODIFIED:20210426T093308Z
END:VEVENT
END:VCALENDAR