BEGIN:VCALENDAR
VERSION:2.0
PRODID:calendify.com
BEGIN:VEVENT
UID:calendify-session-dz04j8loM3N
DTSTART:20190530T154500Z
SEQUENCE:0
TRANSP:OPAQUE
DTEND:20190530T164500Z
URL:https://calendify.com/session/dz04j8loM3N
LOCATION:ZKM_Vortragssaal
SUMMARY:Documentation with any editor
CLASS:PUBLIC
DESCRIPTION:https://calendify.com/session/dz04j8loM3N
DTSTAMP:20260422T191642Z
CREATED:20200509T115054Z
LAST-MODIFIED:20200509T115054Z
END:VEVENT
END:VCALENDAR