BEGIN:VCALENDAR
VERSION:2.0
PRODID:calendify.com
BEGIN:VEVENT
UID:calendify-session-dz04j8n5M3N
DTSTART:20180512T170000Z
SEQUENCE:0
TRANSP:OPAQUE
DTEND:20180512T180000Z
URL:https://calendify.com/session/dz04j8n5M3N
LOCATION:HfG_Studio
SUMMARY:Moderne Kommandozeilen Werkzeuge
CLASS:PUBLIC
DESCRIPTION:https://calendify.com/session/dz04j8n5M3N
DTSTAMP:20260422T015328Z
CREATED:20200513T011828Z
LAST-MODIFIED:20200513T011828Z
END:VEVENT
END:VCALENDAR