BEGIN:VCALENDAR
VERSION:2.0
PRODID:calendify.com
BEGIN:VEVENT
UID:calendify-session-dz04jEX5g3N
DTSTART:20240922T121500Z
SEQUENCE:0
TRANSP:OPAQUE
DTEND:20240922T130000Z
URL:https://calendify.com/session/dz04jEX5g3N
LOCATION:Henny Brenner Saal
SUMMARY:Privatsphäreschonende Gesundheitsdatenverarbeitung
CLASS:PUBLIC
DESCRIPTION:https://calendify.com/session/dz04jEX5g3N
DTSTAMP:20260422T124239Z
CREATED:20241208T220338Z
LAST-MODIFIED:20241208T220338Z
END:VEVENT
END:VCALENDAR