BEGIN:VCALENDAR
VERSION:2.0
PRODID:calendify.com
BEGIN:VEVENT
UID:calendify-session-dz04jL82M3N
DTSTART:20210312T181500Z
SEQUENCE:0
TRANSP:OPAQUE
DTEND:20210312T191500Z
URL:https://calendify.com/session/dz04jL82M3N
LOCATION:Zoom Room 3B
SUMMARY:From Nostalgia to Neostalgia: Imagining Healing Visions of Computin
 g
CLASS:PUBLIC
DESCRIPTION:https://calendify.com/session/dz04jL82M3N
DTSTAMP:20260422T151802Z
CREATED:20210426T094928Z
LAST-MODIFIED:20210426T094928Z
END:VEVENT
END:VCALENDAR