BEGIN:VCALENDAR
VERSION:2.0
PRODID:calendify.com
BEGIN:VEVENT
UID:calendify-session-dz04jLBzM3N
DTSTART:20211227T160000Z
SEQUENCE:0
TRANSP:OPAQUE
DTEND:20211227T164500Z
URL:https://calendify.com/session/dz04jLBzM3N
LOCATION:Chaosstudio Hamburg
SUMMARY:Chinas Sozialkreditsystem: Das gefährlichste Bonitätssystem der W
 elt
CLASS:PUBLIC
DESCRIPTION:https://calendify.com/session/dz04jLBzM3N
DTSTAMP:20260420T061206Z
CREATED:20211220T014016Z
LAST-MODIFIED:20211230T225002Z
END:VEVENT
END:VCALENDAR