BEGIN:VCALENDAR
VERSION:2.0
PRODID:calendify.com
BEGIN:VEVENT
UID:calendify-session-dz04jLD5M3N
DTSTART:20220206T151500Z
SEQUENCE:0
TRANSP:OPAQUE
DTEND:20220206T160000Z
URL:https://calendify.com/session/dz04jLD5M3N
LOCATION:D.distributions
SUMMARY:Chimera Linux
CLASS:PUBLIC
DESCRIPTION:https://calendify.com/session/dz04jLD5M3N
DTSTAMP:20260420T095537Z
CREATED:20220120T214606Z
LAST-MODIFIED:20220206T225003Z
END:VEVENT
END:VCALENDAR