BEGIN:VCALENDAR
VERSION:2.0
PRODID:calendify.com
BEGIN:VEVENT
UID:calendify-session-dz04jLLVM3N
DTSTART:20210315T133000Z
SEQUENCE:0
TRANSP:OPAQUE
DTEND:20210315T143000Z
URL:https://calendify.com/session/dz04jLLVM3N
LOCATION:Zoom Room 5A
SUMMARY:AI4Cities: Accelerating Carbon Neutrality
CLASS:PUBLIC
DESCRIPTION:https://calendify.com/session/dz04jLLVM3N
DTSTAMP:20260420T185332Z
CREATED:20210426T094928Z
LAST-MODIFIED:20210426T094928Z
END:VEVENT
END:VCALENDAR