BEGIN:VCALENDAR
VERSION:2.0
PRODID:calendify.com
BEGIN:VEVENT
UID:calendify-session-dz04jLjoM3N
DTSTART:20211230T010000Z
SEQUENCE:0
TRANSP:OPAQUE
DTEND:20211230T030000Z
URL:https://calendify.com/session/dz04jLjoM3N
LOCATION:Abchillgleis
SUMMARY:ChillOut Crew All Stars
CLASS:PUBLIC
DESCRIPTION:https://calendify.com/session/dz04jLjoM3N
DTSTAMP:20260420T125149Z
CREATED:20211227T091002Z
LAST-MODIFIED:20211230T225002Z
END:VEVENT
END:VCALENDAR