BEGIN:VCALENDAR
VERSION:2.0
PRODID:calendify.com
BEGIN:VEVENT
UID:calendify-session-dz04jLl0M3N
DTSTART:20210318T181500Z
SEQUENCE:0
TRANSP:OPAQUE
DTEND:20210318T201500Z
URL:https://calendify.com/session/dz04jLl0M3N
LOCATION:Spatial Chat / Social 1
SUMMARY:The Future of Money: A Simulation Game
CLASS:PUBLIC
DESCRIPTION:https://calendify.com/session/dz04jLl0M3N
DTSTAMP:20260423T162339Z
CREATED:20210426T094931Z
LAST-MODIFIED:20210426T094931Z
END:VEVENT
END:VCALENDAR