BEGIN:VCALENDAR
VERSION:2.0
PRODID:calendify.com
BEGIN:VEVENT
UID:calendify-session-dz04jLpVM3N
DTSTART:20210316T170000Z
SEQUENCE:0
TRANSP:OPAQUE
DTEND:20210316T180000Z
URL:https://calendify.com/session/dz04jLpVM3N
LOCATION:Zoom Room 4A
SUMMARY:Technological Testing Grounds: Migration Management Experiments and
  Reflections from the Ground Up
CLASS:PUBLIC
DESCRIPTION:https://calendify.com/session/dz04jLpVM3N
DTSTAMP:20260420T220548Z
CREATED:20210426T094928Z
LAST-MODIFIED:20210426T094928Z
END:VEVENT
END:VCALENDAR