BEGIN:VCALENDAR
VERSION:2.0
PRODID:calendify.com
BEGIN:VEVENT
UID:calendify-session-dz04jVEl43N
DTSTART:20210207T135000Z
SEQUENCE:0
TRANSP:OPAQUE
DTEND:20210207T143500Z
URL:https://calendify.com/session/dz04jVEl43N
LOCATION:D.community
SUMMARY:Open Source is More Than Just a License
CLASS:PUBLIC
DESCRIPTION:https://calendify.com/session/dz04jVEl43N
DTSTAMP:20260419T235442Z
CREATED:20210111T170319Z
LAST-MODIFIED:20210208T224803Z
END:VEVENT
END:VCALENDAR