BEGIN:VCALENDAR
VERSION:2.0
PRODID:calendify.com
BEGIN:VEVENT
UID:calendify-session-dz04jVWz43N
DTSTART:20210207T160000Z
SEQUENCE:0
TRANSP:OPAQUE
DTEND:20210207T163000Z
URL:https://calendify.com/session/dz04jVWz43N
LOCATION:D.mysql
SUMMARY:18 Things To Do When You Have a MySQL Bottleneck
CLASS:PUBLIC
DESCRIPTION:https://calendify.com/session/dz04jVWz43N
DTSTAMP:20260424T124213Z
CREATED:20210111T170320Z
LAST-MODIFIED:20210208T224804Z
END:VEVENT
END:VCALENDAR