BEGIN:VCALENDAR
VERSION:2.0
PRODID:calendify.com
BEGIN:VEVENT
UID:calendify-session-dz04jVll43N
DTSTART:20210206T090000Z
SEQUENCE:0
TRANSP:OPAQUE
DTEND:20210206T094500Z
URL:https://calendify.com/session/dz04jVll43N
LOCATION:D.virtualization
SUMMARY:KubeVirt opinionated deployment via Hyperconverged Cluster Operator
  
CLASS:PUBLIC
DESCRIPTION:https://calendify.com/session/dz04jVll43N
DTSTAMP:20260419T164621Z
CREATED:20210111T170319Z
LAST-MODIFIED:20210208T224803Z
END:VEVENT
END:VCALENDAR