BEGIN:VCALENDAR
VERSION:2.0
PRODID:calendify.com
BEGIN:VEVENT
UID:calendify-session-dz04jVw243N
DTSTART:20210207T125500Z
SEQUENCE:0
TRANSP:OPAQUE
DTEND:20210207T131500Z
URL:https://calendify.com/session/dz04jVw243N
LOCATION:D.blockchain
SUMMARY:Alpress 
CLASS:PUBLIC
DESCRIPTION:https://calendify.com/session/dz04jVw243N
DTSTAMP:20260423T185411Z
CREATED:20210119T190820Z
LAST-MODIFIED:20210208T224803Z
END:VEVENT
END:VCALENDAR