BEGIN:VCALENDAR
VERSION:2.0
PRODID:calendify.com
BEGIN:VEVENT
UID:calendify-session-dz04jXe2M3N
DTSTART:20260131T140000Z
SEQUENCE:0
TRANSP:OPAQUE
DTEND:20260131T140500Z
URL:https://calendify.com/session/dz04jXe2M3N
LOCATION:UD6.215
SUMMARY:Welcome to the LLVM dev room
CLASS:PUBLIC
DESCRIPTION:https://calendify.com/session/dz04jXe2M3N
DTSTAMP:20260424T083604Z
CREATED:20260131T063309Z
LAST-MODIFIED:20260201T163231Z
END:VEVENT
END:VCALENDAR