BEGIN:VCALENDAR
VERSION:2.0
PRODID:calendify.com
BEGIN:VEVENT
UID:calendify-session-dz04jbmN43N
DTSTART:20201228T170000Z
SEQUENCE:0
TRANSP:OPAQUE
DTEND:20201228T180000Z
URL:https://calendify.com/session/dz04jbmN43N
LOCATION:rC2
SUMMARY:Der netzpolitische Wetterbericht 2020: 
CLASS:PUBLIC
DESCRIPTION:https://calendify.com/session/dz04jbmN43N
DTSTAMP:20260423T172454Z
CREATED:20201221T231541Z
LAST-MODIFIED:20210114T154804Z
END:VEVENT
END:VCALENDAR