BEGIN:VCALENDAR
VERSION:2.0
PRODID:calendify.com
BEGIN:VEVENT
UID:calendify-session-dz04jdRzM3N
DTSTART:20241228T120000Z
SEQUENCE:0
TRANSP:OPAQUE
DTEND:20241228T130000Z
URL:https://calendify.com/session/dz04jdRzM3N
LOCATION:Milliways
SUMMARY:The Hackers Who Brunch - Day 2
CLASS:PUBLIC
DESCRIPTION:https://calendify.com/session/dz04jdRzM3N
DTSTAMP:20260419T124517Z
CREATED:20241227T141506Z
LAST-MODIFIED:20250101T225002Z
END:VEVENT
END:VCALENDAR