BEGIN:VCALENDAR
VERSION:2.0
PRODID:calendify.com
BEGIN:VEVENT
UID:calendify-session-dz04jdbWM3N
DTSTART:20241229T222000Z
SEQUENCE:0
TRANSP:OPAQUE
DTEND:20241229T225000Z
URL:https://calendify.com/session/dz04jdbWM3N
LOCATION:SoS Saal E
SUMMARY:The Long Night: How to Interstellar Flight
CLASS:PUBLIC
DESCRIPTION:https://calendify.com/session/dz04jdbWM3N
DTSTAMP:20260420T174216Z
CREATED:20241227T141511Z
LAST-MODIFIED:20250101T225003Z
END:VEVENT
END:VCALENDAR