BEGIN:VCALENDAR
VERSION:2.0
PRODID:calendify.com
BEGIN:VEVENT
UID:calendify-session-dz04jl8NM3N
DTSTART:20230715T123000Z
SEQUENCE:0
TRANSP:OPAQUE
DTEND:20230715T130000Z
URL:https://calendify.com/session/dz04jl8NM3N
LOCATION:Raum 1.5
SUMMARY:Schärfen\, mit Hand und Stein Teil 1
CLASS:PUBLIC
DESCRIPTION:https://calendify.com/session/dz04jl8NM3N
DTSTAMP:20260420T181059Z
CREATED:20230806T113150Z
LAST-MODIFIED:20230806T113150Z
END:VEVENT
END:VCALENDAR