BEGIN:VCALENDAR
VERSION:2.0
PRODID:calendify.com
BEGIN:VEVENT
UID:calendify-session-dz04jlAVM3N
DTSTART:20230815T142000Z
SEQUENCE:0
TRANSP:OPAQUE
DTEND:20230815T142500Z
URL:https://calendify.com/session/dz04jlAVM3N
LOCATION:Bits & Bäume
SUMMARY:Online selling without internet connection
CLASS:PUBLIC
DESCRIPTION:https://calendify.com/session/dz04jlAVM3N
DTSTAMP:20260420T045209Z
CREATED:20230806T112913Z
LAST-MODIFIED:20240401T150759Z
END:VEVENT
END:VCALENDAR