BEGIN:VCALENDAR
VERSION:2.0
PRODID:calendify.com
BEGIN:VEVENT
UID:calendify-session-dz04jlBoM3N
DTSTART:20231229T193000Z
SEQUENCE:0
TRANSP:OPAQUE
DTEND:20231229T210000Z
URL:https://calendify.com/session/dz04jlBoM3N
LOCATION:Saal D
SUMMARY:Tor Relay Operators Meetup
CLASS:PUBLIC
DESCRIPTION:https://calendify.com/session/dz04jlBoM3N
DTSTAMP:20260423T015722Z
CREATED:20231221T182739Z
LAST-MODIFIED:20240401T142932Z
END:VEVENT
END:VCALENDAR