BEGIN:VCALENDAR
VERSION:2.0
PRODID:calendify.com
BEGIN:VEVENT
UID:calendify-session-dz04jlG7M3N
DTSTART:20231228T115500Z
SEQUENCE:0
TRANSP:OPAQUE
DTEND:20231228T123500Z
URL:https://calendify.com/session/dz04jlG7M3N
LOCATION:Saal Zuse
SUMMARY:Das Recht auf Selbstverteidigung im modernen Völkerrecht
CLASS:PUBLIC
DESCRIPTION:https://calendify.com/session/dz04jlG7M3N
DTSTAMP:20260423T043531Z
CREATED:20231215T204820Z
LAST-MODIFIED:20240401T142932Z
END:VEVENT
END:VCALENDAR