BEGIN:VCALENDAR
VERSION:2.0
PRODID:calendify.com
BEGIN:VEVENT
UID:calendify-session-dz04jla7M3N
DTSTART:20231229T220000Z
SEQUENCE:0
TRANSP:OPAQUE
DTEND:20231229T224000Z
URL:https://calendify.com/session/dz04jla7M3N
LOCATION:Saal Zuse
SUMMARY:Buffered Daemons
CLASS:PUBLIC
DESCRIPTION:https://calendify.com/session/dz04jla7M3N
DTSTAMP:20260422T111019Z
CREATED:20231215T204822Z
LAST-MODIFIED:20240401T142932Z
END:VEVENT
END:VCALENDAR